Package: antiProfilesData Version: 1.45.0 Command: /home/biocbuild/bbs-3.22-bioc/R/bin/R CMD INSTALL antiProfilesData StartedAt: 2025-07-10 10:56:03 -0400 (Thu, 10 Jul 2025) EndedAt: 2025-07-10 10:56:06 -0400 (Thu, 10 Jul 2025) EllapsedTime: 2.9 seconds RetCode: 0 Status: OK