Package: bcellViper Version: 1.47.0 Command: /home/biocbuild/bbs-3.23-bioc/R/bin/R CMD build --keep-empty-dirs --no-resave-data bcellViper StartedAt: 2025-11-13 11:07:48 -0500 (Thu, 13 Nov 2025) EndedAt: 2025-11-13 11:07:55 -0500 (Thu, 13 Nov 2025) EllapsedTime: 7.1 seconds RetCode: 0 Status: OK PackageFile: bcellViper_1.47.0.tar.gz PackageFileSize: 11.34 MiB