Package: bcellViper Version: 1.47.0 Command: /home/biocbuild/bbs-3.23-bioc/R/bin/R CMD INSTALL bcellViper StartedAt: 2025-11-13 10:56:10 -0500 (Thu, 13 Nov 2025) EndedAt: 2025-11-13 10:56:12 -0500 (Thu, 13 Nov 2025) EllapsedTime: 2.0 seconds RetCode: 0 Status: OK