Package: bcellViper Version: 1.45.0 Command: /home/biocbuild/bbs-3.22-bioc/R/bin/R CMD build --keep-empty-dirs --no-resave-data bcellViper StartedAt: 2025-07-10 11:08:14 -0400 (Thu, 10 Jul 2025) EndedAt: 2025-07-10 11:08:21 -0400 (Thu, 10 Jul 2025) EllapsedTime: 7.0 seconds RetCode: 0 Status: OK PackageFile: bcellViper_1.45.0.tar.gz PackageFileSize: 11.34 MiB