Package: beadarrayExampleData Version: 1.49.0 Command: /home/biocbuild/bbs-3.23-bioc/R/bin/R CMD build --keep-empty-dirs --no-resave-data beadarrayExampleData StartedAt: 2025-10-30 11:07:26 -0400 (Thu, 30 Oct 2025) EndedAt: 2025-10-30 11:07:52 -0400 (Thu, 30 Oct 2025) EllapsedTime: 26.1 seconds RetCode: 0 Status: OK PackageFile: beadarrayExampleData_1.49.0.tar.gz PackageFileSize: 29.96 MiB