Package: beadarrayExampleData Version: 1.49.0 Command: /home/biocbuild/bbs-3.23-bioc/R/bin/R CMD check --install=check:beadarrayExampleData.install-out.txt --library=/home/biocbuild/bbs-3.23-bioc/R/site-library --timings beadarrayExampleData_1.49.0.tar.gz StartedAt: 2025-10-30 11:57:37 -0400 (Thu, 30 Oct 2025) EndedAt: 2025-10-30 11:59:11 -0400 (Thu, 30 Oct 2025) EllapsedTime: 93.6 seconds RetCode: 0 Status: OK CheckDir: beadarrayExampleData.Rcheck Warnings: 0