Package: beadarrayExampleData Version: 1.49.0 Command: /home/biocbuild/bbs-3.23-bioc/R/bin/R CMD INSTALL beadarrayExampleData StartedAt: 2025-10-30 10:58:08 -0400 (Thu, 30 Oct 2025) EndedAt: 2025-10-30 10:58:19 -0400 (Thu, 30 Oct 2025) EllapsedTime: 11.0 seconds RetCode: 0 Status: OK