Package: beadarrayExampleData Version: 1.47.0 Command: /home/biocbuild/bbs-3.22-bioc/R/bin/R CMD INSTALL beadarrayExampleData StartedAt: 2025-07-08 10:58:08 -0400 (Tue, 08 Jul 2025) EndedAt: 2025-07-08 10:58:18 -0400 (Tue, 08 Jul 2025) EllapsedTime: 9.8 seconds RetCode: 0 Status: OK