Package: beta7 Version: 1.47.0 Command: /home/biocbuild/bbs-3.22-bioc/R/bin/R CMD build --keep-empty-dirs --no-resave-data beta7 StartedAt: 2025-07-08 11:07:45 -0400 (Tue, 08 Jul 2025) EndedAt: 2025-07-08 11:07:54 -0400 (Tue, 08 Jul 2025) EllapsedTime: 9.1 seconds RetCode: 0 Status: OK PackageFile: beta7_1.47.0.tar.gz PackageFileSize: 15.18 MiB