Package: beta7 Version: 1.47.0 Command: /home/biocbuild/bbs-3.22-bioc/R/bin/R CMD INSTALL beta7 StartedAt: 2025-07-08 10:56:27 -0400 (Tue, 08 Jul 2025) EndedAt: 2025-07-08 10:56:30 -0400 (Tue, 08 Jul 2025) EllapsedTime: 3.0 seconds RetCode: 0 Status: OK