Package: biotmleData Version: 1.35.0 Command: /home/biocbuild/bbs-3.23-bioc/R/bin/R CMD build --keep-empty-dirs --no-resave-data biotmleData StartedAt: 2025-11-11 11:07:57 -0500 (Tue, 11 Nov 2025) EndedAt: 2025-11-11 11:08:00 -0500 (Tue, 11 Nov 2025) EllapsedTime: 2.6 seconds RetCode: 0 Status: OK PackageFile: biotmleData_1.35.0.tar.gz PackageFileSize: 30.67 MiB