Package: biotmleData Version: 1.35.0 Command: /home/biocbuild/bbs-3.23-bioc/R/bin/R CMD INSTALL biotmleData StartedAt: 2025-11-11 10:55:12 -0500 (Tue, 11 Nov 2025) EndedAt: 2025-11-11 10:55:30 -0500 (Tue, 11 Nov 2025) EllapsedTime: 17.9 seconds RetCode: 0 Status: OK