Package: bladderbatch Version: 1.47.0 Command: /home/biocbuild/bbs-3.22-bioc/R/bin/R CMD INSTALL bladderbatch StartedAt: 2025-07-08 10:56:13 -0400 (Tue, 08 Jul 2025) EndedAt: 2025-07-08 10:56:15 -0400 (Tue, 08 Jul 2025) EllapsedTime: 2.3 seconds RetCode: 0 Status: OK