Package: blimaTestingData Version: 1.31.0 Command: /home/biocbuild/bbs-3.23-bioc/R/bin/R CMD INSTALL blimaTestingData StartedAt: 2025-11-04 10:55:25 -0500 (Tue, 04 Nov 2025) EndedAt: 2025-11-04 10:55:26 -0500 (Tue, 04 Nov 2025) EllapsedTime: 1.4 seconds RetCode: 0 Status: OK