Package: blimaTestingData Version: 1.29.0 Command: /home/biocbuild/bbs-3.22-bioc/R/bin/R CMD check --install=check:blimaTestingData.install-out.txt --library=/home/biocbuild/bbs-3.22-bioc/R/site-library --timings blimaTestingData_1.29.0.tar.gz StartedAt: 2025-07-10 12:02:32 -0400 (Thu, 10 Jul 2025) EndedAt: 2025-07-10 12:03:56 -0400 (Thu, 10 Jul 2025) EllapsedTime: 83.5 seconds RetCode: 0 Status: OK CheckDir: blimaTestingData.Rcheck Warnings: 0