Package: bodymapRat Version: 1.25.0 Command: /home/biocbuild/bbs-3.22-bioc/R/bin/R CMD build --keep-empty-dirs --no-resave-data bodymapRat StartedAt: 2025-07-10 11:08:43 -0400 (Thu, 10 Jul 2025) EndedAt: 2025-07-10 11:09:33 -0400 (Thu, 10 Jul 2025) EllapsedTime: 49.2 seconds RetCode: 0 Status: OK PackageFile: bodymapRat_1.25.0.tar.gz PackageFileSize: 299.1 KiB