Package: bodymapRat Version: 1.25.0 Command: /home/biocbuild/bbs-3.22-bioc/R/bin/R CMD INSTALL bodymapRat StartedAt: 2025-07-10 11:00:16 -0400 (Thu, 10 Jul 2025) EndedAt: 2025-07-10 11:00:46 -0400 (Thu, 10 Jul 2025) EllapsedTime: 30.3 seconds RetCode: 0 Status: OK