Package: breakpointRdata Version: 1.29.0 Command: /home/biocbuild/bbs-3.23-bioc/R/bin/R CMD INSTALL breakpointRdata StartedAt: 2025-11-06 10:55:55 -0500 (Thu, 06 Nov 2025) EndedAt: 2025-11-06 10:55:57 -0500 (Thu, 06 Nov 2025) EllapsedTime: 2.5 seconds RetCode: 0 Status: OK