Package: breastCancerUPP Version: 1.47.0 Command: /home/biocbuild/bbs-3.22-bioc/R/bin/R CMD build --keep-empty-dirs --no-resave-data breastCancerUPP StartedAt: 2025-07-17 11:08:14 -0400 (Thu, 17 Jul 2025) EndedAt: 2025-07-17 11:08:19 -0400 (Thu, 17 Jul 2025) EllapsedTime: 5.0 seconds RetCode: 0 Status: OK PackageFile: breastCancerUPP_1.47.0.tar.gz PackageFileSize: 29.59 MiB