Package: breastCancerVDX Version: 1.47.0 Command: /home/biocbuild/bbs-3.22-bioc/R/bin/R CMD build --keep-empty-dirs --no-resave-data breastCancerVDX StartedAt: 2025-07-17 11:08:16 -0400 (Thu, 17 Jul 2025) EndedAt: 2025-07-17 11:08:20 -0400 (Thu, 17 Jul 2025) EllapsedTime: 4.3 seconds RetCode: 0 Status: OK PackageFile: breastCancerVDX_1.47.0.tar.gz PackageFileSize: 39.52 MiB