Package: brgedata Version: 1.31.0 Command: /home/biocbuild/bbs-3.22-bioc/R/bin/R CMD build --keep-empty-dirs --no-resave-data brgedata StartedAt: 2025-07-15 11:08:17 -0400 (Tue, 15 Jul 2025) EndedAt: 2025-07-15 11:12:16 -0400 (Tue, 15 Jul 2025) EllapsedTime: 238.7 seconds RetCode: 0 Status: OK PackageFile: brgedata_1.31.0.tar.gz PackageFileSize: 297 MiB