Package: brgedata Version: 1.31.0 Command: /home/biocbuild/bbs-3.22-bioc/R/bin/R CMD INSTALL brgedata StartedAt: 2025-07-15 10:58:05 -0400 (Tue, 15 Jul 2025) EndedAt: 2025-07-15 10:59:09 -0400 (Tue, 15 Jul 2025) EllapsedTime: 63.2 seconds RetCode: 0 Status: OK