Package: bsseqData Version: 0.49.0 Command: /home/biocbuild/bbs-3.23-bioc/R/bin/R CMD build --keep-empty-dirs --no-resave-data bsseqData StartedAt: 2025-11-04 11:08:58 -0500 (Tue, 04 Nov 2025) EndedAt: 2025-11-04 11:09:07 -0500 (Tue, 04 Nov 2025) EllapsedTime: 8.7 seconds RetCode: 0 Status: OK PackageFile: bsseqData_0.49.0.tar.gz PackageFileSize: 127.7 MiB