Package: bsseqData Version: 0.49.0 Command: /home/biocbuild/bbs-3.23-bioc/R/bin/R CMD INSTALL bsseqData StartedAt: 2025-11-04 11:01:18 -0500 (Tue, 04 Nov 2025) EndedAt: 2025-11-04 11:02:07 -0500 (Tue, 04 Nov 2025) EllapsedTime: 49.8 seconds RetCode: 0 Status: OK