Package: bsseqData Version: 0.47.0 Command: /home/biocbuild/bbs-3.22-bioc/R/bin/R CMD INSTALL bsseqData StartedAt: 2025-07-08 11:01:04 -0400 (Tue, 08 Jul 2025) EndedAt: 2025-07-08 11:01:53 -0400 (Tue, 08 Jul 2025) EllapsedTime: 48.6 seconds RetCode: 0 Status: OK