Package: cMap2data Version: 1.47.0 Command: /home/biocbuild/bbs-3.23-bioc/R/bin/R CMD build --keep-empty-dirs --no-resave-data cMap2data StartedAt: 2025-11-04 11:12:52 -0500 (Tue, 04 Nov 2025) EndedAt: 2025-11-04 11:13:06 -0500 (Tue, 04 Nov 2025) EllapsedTime: 14.2 seconds RetCode: 0 Status: OK PackageFile: cMap2data_1.47.0.tar.gz PackageFileSize: 27.94 MiB