Package: cMap2data Version: 1.45.0 Command: /home/biocbuild/bbs-3.22-bioc/R/bin/R CMD build --keep-empty-dirs --no-resave-data cMap2data StartedAt: 2025-07-08 11:10:31 -0400 (Tue, 08 Jul 2025) EndedAt: 2025-07-08 11:10:45 -0400 (Tue, 08 Jul 2025) EllapsedTime: 14.0 seconds RetCode: 0 Status: OK PackageFile: cMap2data_1.45.0.tar.gz PackageFileSize: 27.94 MiB