Package: cMap2data Version: 1.45.0 Command: /home/biocbuild/bbs-3.22-bioc/R/bin/R CMD INSTALL cMap2data StartedAt: 2025-07-08 10:55:09 -0400 (Tue, 08 Jul 2025) EndedAt: 2025-07-08 10:55:19 -0400 (Tue, 08 Jul 2025) EllapsedTime: 10.2 seconds RetCode: 0 Status: OK