Package: ccdata Version: 1.35.0 Command: /home/biocbuild/bbs-3.22-bioc/R/bin/R CMD INSTALL ccdata StartedAt: 2025-07-10 10:55:40 -0400 (Thu, 10 Jul 2025) EndedAt: 2025-07-10 10:55:42 -0400 (Thu, 10 Jul 2025) EllapsedTime: 2.1 seconds RetCode: 0 Status: OK