Package: celldex Version: 1.19.0 Command: /home/biocbuild/bbs-3.22-bioc/R/bin/R CMD INSTALL celldex StartedAt: 2025-07-08 11:02:41 -0400 (Tue, 08 Jul 2025) EndedAt: 2025-07-08 11:03:12 -0400 (Tue, 08 Jul 2025) EllapsedTime: 31.3 seconds RetCode: 0 Status: OK