Package: cfToolsData Version: 1.7.0 Maintainer: Ran Hu MaintainerEmail: huran at ucla.edu git_url: https://git.bioconductor.org/packages/cfToolsData git_branch: devel git_last_commit: 8f8a1dc git_last_commit_date: 2025-04-15 10:23:40 -0400 (Tue, 15 Apr 2025)