Package: cfToolsData Version: 1.7.0 Command: /home/biocbuild/bbs-3.22-bioc/R/bin/R CMD INSTALL cfToolsData StartedAt: 2025-07-08 10:57:25 -0400 (Tue, 08 Jul 2025) EndedAt: 2025-07-08 10:57:38 -0400 (Tue, 08 Jul 2025) EllapsedTime: 12.6 seconds RetCode: 0 Status: OK