Package: chipseqDBData Version: 1.27.0 Command: /home/biocbuild/bbs-3.23-bioc/R/bin/R CMD INSTALL chipseqDBData StartedAt: 2025-10-30 11:00:40 -0400 (Thu, 30 Oct 2025) EndedAt: 2025-10-30 11:00:56 -0400 (Thu, 30 Oct 2025) EllapsedTime: 16.2 seconds RetCode: 0 Status: OK