Package: chipseqDBData Version: 1.25.0 Command: /home/biocbuild/bbs-3.22-bioc/R/bin/R CMD build --keep-empty-dirs --no-resave-data chipseqDBData StartedAt: 2025-07-08 11:09:37 -0400 (Tue, 08 Jul 2025) EndedAt: 2025-07-08 11:10:47 -0400 (Tue, 08 Jul 2025) EllapsedTime: 70.0 seconds RetCode: 0 Status: OK PackageFile: chipseqDBData_1.25.0.tar.gz PackageFileSize: 300.8 KiB