Package: chipseqDBData Version: 1.25.0 Command: /home/biocbuild/bbs-3.22-bioc/R/bin/R CMD check --install=check:chipseqDBData.install-out.txt --library=/home/biocbuild/bbs-3.22-bioc/R/site-library --timings chipseqDBData_1.25.0.tar.gz StartedAt: 2025-07-10 12:06:32 -0400 (Thu, 10 Jul 2025) EndedAt: 2025-07-10 12:09:15 -0400 (Thu, 10 Jul 2025) EllapsedTime: 163.5 seconds RetCode: 0 Status: OK CheckDir: chipseqDBData.Rcheck Warnings: 0