Package: chipseqDBData Version: 1.25.0 Command: /home/biocbuild/bbs-3.22-bioc/R/bin/R CMD INSTALL chipseqDBData StartedAt: 2025-07-08 11:00:37 -0400 (Tue, 08 Jul 2025) EndedAt: 2025-07-08 11:00:53 -0400 (Tue, 08 Jul 2025) EllapsedTime: 16.0 seconds RetCode: 0 Status: OK