Package: clustifyrdatahub Version: 1.21.0 Command: /home/biocbuild/bbs-3.23-bioc/R/bin/R CMD check --install=check:clustifyrdatahub.install-out.txt --library=/home/biocbuild/bbs-3.23-bioc/R/site-library --timings clustifyrdatahub_1.21.0.tar.gz StartedAt: 2025-11-04 12:07:50 -0500 (Tue, 04 Nov 2025) EndedAt: 2025-11-04 12:09:52 -0500 (Tue, 04 Nov 2025) EllapsedTime: 121.1 seconds RetCode: 0 Status: OK CheckDir: clustifyrdatahub.Rcheck Warnings: 0