Package: clustifyrdatahub Version: 1.19.0 Command: /home/biocbuild/bbs-3.22-bioc/R/bin/R CMD build --keep-empty-dirs --no-resave-data clustifyrdatahub StartedAt: 2025-07-08 11:10:19 -0400 (Tue, 08 Jul 2025) EndedAt: 2025-07-08 11:10:57 -0400 (Tue, 08 Jul 2025) EllapsedTime: 37.8 seconds RetCode: 0 Status: OK PackageFile: clustifyrdatahub_1.19.0.tar.gz PackageFileSize: 299.9 KiB