Package: clustifyrdatahub Version: 1.19.0 Command: /home/biocbuild/bbs-3.22-bioc/R/bin/R CMD check --install=check:clustifyrdatahub.install-out.txt --library=/home/biocbuild/bbs-3.22-bioc/R/site-library --timings clustifyrdatahub_1.19.0.tar.gz StartedAt: 2025-07-08 12:07:07 -0400 (Tue, 08 Jul 2025) EndedAt: 2025-07-08 12:09:04 -0400 (Tue, 08 Jul 2025) EllapsedTime: 117.7 seconds RetCode: 0 Status: OK CheckDir: clustifyrdatahub.Rcheck Warnings: 0