Package: clustifyrdatahub Version: 1.19.0 Command: /home/biocbuild/bbs-3.22-bioc/R/bin/R CMD INSTALL clustifyrdatahub StartedAt: 2025-07-08 10:57:23 -0400 (Tue, 08 Jul 2025) EndedAt: 2025-07-08 10:57:35 -0400 (Tue, 08 Jul 2025) EllapsedTime: 12.6 seconds RetCode: 0 Status: OK