Package: crisprScoreData Version: 1.15.0 Command: /home/biocbuild/bbs-3.23-bioc/R/bin/R CMD INSTALL crisprScoreData StartedAt: 2025-11-06 10:57:45 -0500 (Thu, 06 Nov 2025) EndedAt: 2025-11-06 10:57:59 -0500 (Thu, 06 Nov 2025) EllapsedTime: 13.8 seconds RetCode: 0 Status: OK