Package: crisprScoreData Version: 1.13.0 Command: /home/biocbuild/bbs-3.22-bioc/R/bin/R CMD build --keep-empty-dirs --no-resave-data crisprScoreData StartedAt: 2025-07-08 11:11:20 -0400 (Tue, 08 Jul 2025) EndedAt: 2025-07-08 11:11:54 -0400 (Tue, 08 Jul 2025) EllapsedTime: 34.7 seconds RetCode: 0 Status: OK PackageFile: crisprScoreData_1.13.0.tar.gz PackageFileSize: 6.089 MiB