Package: crisprScoreData Version: 1.13.0 Command: /home/biocbuild/bbs-3.22-bioc/R/bin/R CMD INSTALL crisprScoreData StartedAt: 2025-07-08 10:57:49 -0400 (Tue, 08 Jul 2025) EndedAt: 2025-07-08 10:58:02 -0400 (Tue, 08 Jul 2025) EllapsedTime: 13.0 seconds RetCode: 0 Status: OK