Package: curatedAdipoArray Version: 1.21.0 Maintainer: Mahmoud Ahmed MaintainerEmail: mahmoud.s.fahmy at students.kasralainy.edu.eg git_url: https://git.bioconductor.org/packages/curatedAdipoArray git_branch: devel git_last_commit: b563b8d git_last_commit_date: 2025-04-15 10:14:34 -0400 (Tue, 15 Apr 2025)