Package: curatedAdipoArray Version: 1.23.0 Command: /home/biocbuild/bbs-3.23-bioc/R/bin/R CMD INSTALL curatedAdipoArray StartedAt: 2025-11-04 10:55:15 -0500 (Tue, 04 Nov 2025) EndedAt: 2025-11-04 10:55:17 -0500 (Tue, 04 Nov 2025) EllapsedTime: 1.9 seconds RetCode: 0 Status: OK