Package: curatedAdipoArray Version: 1.21.0 Command: /home/biocbuild/bbs-3.22-bioc/R/bin/R CMD build --keep-empty-dirs --no-resave-data curatedAdipoArray StartedAt: 2025-07-08 11:11:20 -0400 (Tue, 08 Jul 2025) EndedAt: 2025-07-08 11:11:36 -0400 (Tue, 08 Jul 2025) EllapsedTime: 16.0 seconds RetCode: 0 Status: OK PackageFile: curatedAdipoArray_1.21.0.tar.gz PackageFileSize: 36.25 KiB