Package: curatedAdipoArray Version: 1.21.0 Command: /home/biocbuild/bbs-3.22-bioc/R/bin/R CMD check --install=check:curatedAdipoArray.install-out.txt --library=/home/biocbuild/bbs-3.22-bioc/R/site-library --timings curatedAdipoArray_1.21.0.tar.gz StartedAt: 2025-07-15 12:08:02 -0400 (Tue, 15 Jul 2025) EndedAt: 2025-07-15 12:08:28 -0400 (Tue, 15 Jul 2025) EllapsedTime: 25.8 seconds RetCode: 0 Status: OK CheckDir: curatedAdipoArray.Rcheck Warnings: 0