Package: curatedAdipoChIP Version: 1.27.0 Command: /home/biocbuild/bbs-3.23-bioc/R/bin/R CMD build --keep-empty-dirs --no-resave-data curatedAdipoChIP StartedAt: 2025-11-04 11:13:38 -0500 (Tue, 04 Nov 2025) EndedAt: 2025-11-04 11:15:26 -0500 (Tue, 04 Nov 2025) EllapsedTime: 108.1 seconds RetCode: 0 Status: OK PackageFile: curatedAdipoChIP_1.27.0.tar.gz PackageFileSize: 127.7 KiB