Package: curatedAdipoChIP Version: 1.27.0 Command: /home/biocbuild/bbs-3.23-bioc/R/bin/R CMD INSTALL curatedAdipoChIP StartedAt: 2025-11-04 11:00:43 -0500 (Tue, 04 Nov 2025) EndedAt: 2025-11-04 11:01:10 -0500 (Tue, 04 Nov 2025) EllapsedTime: 26.9 seconds RetCode: 0 Status: OK