Package: curatedAdipoChIP Version: 1.25.0 Command: /home/biocbuild/bbs-3.22-bioc/R/bin/R CMD build --keep-empty-dirs --no-resave-data curatedAdipoChIP StartedAt: 2025-07-08 11:11:23 -0400 (Tue, 08 Jul 2025) EndedAt: 2025-07-08 11:13:10 -0400 (Tue, 08 Jul 2025) EllapsedTime: 107.0 seconds RetCode: 0 Status: OK PackageFile: curatedAdipoChIP_1.25.0.tar.gz PackageFileSize: 140.8 KiB